BEGIN:VCALENDAR
VERSION:2.0
PRODID:-//eventon.com NONSGML v1.0//EN
CALSCALE:GREGORIAN
METHOD:PUBLISH
BEGIN:VEVENT
UID:69e97e773e5e9
DTSTAMP:20260423T020543Z
DTSTART:20210301T070000Z
DTEND:20210331T180000Z
LOCATION:
SUMMARY:Creadoras de la Historia de la Música. Shakira Ventura
DESCRIPTION:Creadoras de la Historia de la Música. Shakira Ventura\nhttps:
 //fyl-fr.uva.es/events/creadoras-de-la-historia-de-la-musica-shakira-ventur
 a/
URL:https://fyl-fr.uva.es/events/creadoras-de-la-historia-de-la-musica-shakira-ventura/
END:VEVENT
END:VCALENDAR